BEGIN:VCALENDAR
VERSION:2.0
PRODID:-//Vänsterpartiet Motala - ECPv6.15.17.1//NONSGML v1.0//EN
CALSCALE:GREGORIAN
METHOD:PUBLISH
X-WR-CALNAME:Vänsterpartiet Motala
X-ORIGINAL-URL:https://motala.vansterpartiet.se
X-WR-CALDESC:Händelser för Vänsterpartiet Motala
REFRESH-INTERVAL;VALUE=DURATION:PT1H
X-Robots-Tag:noindex
X-PUBLISHED-TTL:PT1H
BEGIN:VTIMEZONE
TZID:Europe/Stockholm
BEGIN:DAYLIGHT
TZOFFSETFROM:+0100
TZOFFSETTO:+0200
TZNAME:CEST
DTSTART:20250330T010000
END:DAYLIGHT
BEGIN:STANDARD
TZOFFSETFROM:+0200
TZOFFSETTO:+0100
TZNAME:CET
DTSTART:20251026T010000
END:STANDARD
BEGIN:DAYLIGHT
TZOFFSETFROM:+0100
TZOFFSETTO:+0200
TZNAME:CEST
DTSTART:20260329T010000
END:DAYLIGHT
BEGIN:STANDARD
TZOFFSETFROM:+0200
TZOFFSETTO:+0100
TZNAME:CET
DTSTART:20261025T010000
END:STANDARD
BEGIN:DAYLIGHT
TZOFFSETFROM:+0100
TZOFFSETTO:+0200
TZNAME:CEST
DTSTART:20270328T010000
END:DAYLIGHT
BEGIN:STANDARD
TZOFFSETFROM:+0200
TZOFFSETTO:+0100
TZNAME:CET
DTSTART:20271031T010000
END:STANDARD
END:VTIMEZONE
BEGIN:VEVENT
DTSTART;TZID=Europe/Stockholm:20260420T173000
DTEND;TZID=Europe/Stockholm:20260420T173000
DTSTAMP:20260420T014958
CREATED:20260303T212003Z
LAST-MODIFIED:20260304T141342Z
UID:11975-1776706200-1776706200@motala.vansterpartiet.se
SUMMARY:Styrelsemöte med medlemsöppen diskussion
DESCRIPTION:Mötet inleds 17:30 med en timmas öppen politisk diskussion för medlemmar. Meddela oss gärna (frivilligt) om du kommer på vår mejladress: Motala@vansterpartiet.se Lokal: ABF\, Kyrkogatan 6 Fika bjuder vi på.
URL:https://motala.vansterpartiet.se/event/styrelsemote-med-medlemsoppen-diskussion-8/
LOCATION:ABF Motala\, Kyrkogatan 6\, Motala\, 59135
CATEGORIES:medlemmar,styrelsen
ATTACH;FMTTYPE=image/jpeg:https://motala.vansterpartiet.se/files/2022/03/C-Users-rebrox-AppData-Local-Packages-BlueMail.BlueMailEmail_t08282y3j4hc4-LocalCache-Roaming-BlueMail-Content-3-Inline-_51_46_48_95_51_120_82_76_46_48_95_51_120_82_76-Fika-e1680456554111.jpg
END:VEVENT
END:VCALENDAR